BEGIN:VCALENDAR
VERSION:2.0
PRODID:-//United Community Center of Westchester, Inc - ECPv6.15.20//NONSGML v1.0//EN
CALSCALE:GREGORIAN
METHOD:PUBLISH
X-WR-CALNAME:United Community Center of Westchester, Inc
X-ORIGINAL-URL:https://uccenter.org
X-WR-CALDESC:Events for United Community Center of Westchester, Inc
REFRESH-INTERVAL;VALUE=DURATION:PT1H
X-Robots-Tag:noindex
X-PUBLISHED-TTL:PT1H
BEGIN:VTIMEZONE
TZID:UTC
BEGIN:STANDARD
TZOFFSETFROM:+0000
TZOFFSETTO:+0000
TZNAME:UTC
DTSTART:20240101T000000
END:STANDARD
END:VTIMEZONE
BEGIN:VEVENT
DTSTART;TZID=UTC:20250125T100000
DTEND;TZID=UTC:20250125T210000
DTSTAMP:20260421T232304
CREATED:20250107T033058Z
LAST-MODIFIED:20250109T223344Z
UID:4440-1737799200-1737838800@uccenter.org
SUMMARY:Free OSHA SST Workshop
DESCRIPTION:Join us for a FREE OSHA SST Workshop designed to promote safety and awareness in the workplace. This program provides vital training in two key areas: \n\n\n\n🔹 8-Hour Fall Prevention: Falls are one of the leading causes of injuries on construction sites. This training focuses on understanding risks\, implementing safety measures\, and creating safer work environments.🔹 2-Hour Drug and Alcohol Awareness: This session offers guidance on recognizing the impact of substance use on workplace safety and provides strategies for prevention and intervention.🔹 This workshop will be held in Spanish. \n\n\n\n📅 Next Date: January 25\, 2025⏰ Time: 10:00 AM – 9:00 PM📍 Location: United Community Center of Westchester Inc.360 North Avenue\, New Rochelle\, NY 10801 \n\n\n\nWho Should Participate?This workshop is open to all construction workers\, supervisors\, and individuals interested in enhancing workplace safety and meeting OSHA standards. \n\n\n\nHow to Register:Call 914-308-1640 to reserve your place. \n\n\n\nBy attending\, you’ll contribute to creating safer\, healthier workplaces for everyone. \n\n\n\n\n\n\n\nTe invitamos a participar en este Taller SST Gratuito de OSHA\, enfocado en temas esenciales para la seguridad en el lugar de trabajo: \n\n\n\n🔹 Prevención de Caídas (8 Horas): Aprende a identificar y prevenir los riesgos de caídas\, una de las principales causas de lesiones en la construcción\, con herramientas prácticas y conocimiento actualizado.🔹 Concienciación sobre Drogas y Alcohol (2 Horas): Analiza cómo el consumo de sustancias impacta la seguridad laboral y descubre estrategias efectivas para prevenir y abordar estos riesgos.🔹 Este taller se llevará a cabo en español. \n\n\n\n📅 Próxima Fecha: 25 de enero de 2025⏰ Horario: 10:00 AM – 9:00 PM📍 Lugar: United Community Center of Westchester Inc.360 North Avenue\, New Rochelle\, NY 10801 \n\n\n\n¿Quiénes Pueden Participar?El taller está dirigido a trabajadores de la construcción\, supervisores y cualquier persona interesada en mejorar la seguridad laboral y cumplir con los estándares de OSHA. \n\n\n\nCómo Registrarte:Llama al 914-308-1640 para confirmar tu asistencia. \n\n\n\nCon tu participación\, contribuirás a crear espacios laborales más seguros y saludables para todos.
URL:https://uccenter.org/event/free-osha-sst-workshop-jan-25/
LOCATION:360 North Ave\, New Rochelle\, NY 10801\, Estados Unidos\, 360 North Ave\, New Rochelle\, NY\, New York\, United States
CATEGORIES:OSHA 10,SST
ATTACH;FMTTYPE=image/jpeg:https://uccenter.org/wp-content/uploads/2025/01/OSHA-SST-enero-25-web-UCCW-1080-x-1350-px-2240-x-1260-px.jpg
END:VEVENT
END:VCALENDAR