BEGIN:VCALENDAR
VERSION:2.0
PRODID:-//United Community Center of Westchester, Inc - ECPv6.15.20//NONSGML v1.0//EN
CALSCALE:GREGORIAN
METHOD:PUBLISH
X-ORIGINAL-URL:https://uccenter.org
X-WR-CALDESC:Events for United Community Center of Westchester, Inc
REFRESH-INTERVAL;VALUE=DURATION:PT1H
X-Robots-Tag:noindex
X-PUBLISHED-TTL:PT1H
BEGIN:VTIMEZONE
TZID:UTC
BEGIN:STANDARD
TZOFFSETFROM:+0000
TZOFFSETTO:+0000
TZNAME:UTC
DTSTART:20240101T000000
END:STANDARD
END:VTIMEZONE
BEGIN:VEVENT
DTSTART;TZID=UTC:20250215T100000
DTEND;TZID=UTC:20250215T210000
DTSTAMP:20260421T212925
CREATED:20250205T210630Z
LAST-MODIFIED:20250205T210633Z
UID:4598-1739613600-1739653200@uccenter.org
SUMMARY:SST - OSHA 10-HOUR SITE SAFETY TRAINING 
DESCRIPTION:📢 Get certified and boost your safety knowledge with this FREE OSHA 10-hour training! \n\n\n\nJoin us for a comprehensive workshop focused on workplace hazard prevention and construction site safety. This training will provide you with essential knowledge on OSHA regulations and updated safety guidelines\, helping you create a safer work environment. \n\n\n\nWhy attend?\n\n\n\n✔ Learn how to prevent workplace hazards✔ Understand construction site safety protocols✔ Stay up to date with the latest OSHA regulations✔ 8-Hour Fall Prevention: Falls are one of the leading causes of injuries on construction sites. This training focuses on understanding risks\, implementing safety measures\, and creating safer work environments.✔ 2-Hour Drug and Alcohol Awareness: Learn how substance use affects workplace safety\, recognize warning signs\, and explore strategies for prevention and intervention.✔ Receive OSHA 10-hour certification upon completion✔ Classes available in Spanish \n\n\n\n👷‍♂️ This training is essential for construction workers\, supervisors\, and anyone looking to enhance workplace safety. \n\n\n\n📅 Date: Saturday\, February 15\, 2025⏰ Time: 10 AM – 9 PM📍 Location: UCCW\, 360 North Avenue\, New Rochelle\, NY 10801 \n\n\n\n🎯 Limited spots available! Register today to secure your place. \n\n\n\n📞 To register\, call 914-308-1640 \n\n\n\n🚧 Your safety is your priority—get trained and certified for FREE! 🚧 \n\n\n\n\n\n\n\nSST – OSHA 10 HORAS DE SEGURIDAD EN EL TRABAJO\n\n\n\n📢 ¡Obtén tu certificación y mejora tu seguridad laboral con este ENTRENAMIENTO GRATUITO OSHA 10 HORAS! \n\n\n\nÚnete a nuestro taller especializado en prevención de riesgos laborales y seguridad en sitios de construcción. Esta capacitación te proporcionará el conocimiento necesario sobre las regulaciones actualizadas de OSHA y las mejores prácticas de seguridad en el trabajo. \n\n\n\n¿Por qué asistir?\n\n\n\n✔ Aprende a prevenir accidentes laborales✔ Conoce los protocolos de seguridad en construcción✔ Mantente al día con las normativas actualizadas de OSHA✔ 8 Horas de Prevención de Caídas: Las caídas son una de las principales causas de accidentes en la construcción. Esta formación te ayudará a comprender los riesgos\, implementar medidas de seguridad y crear un entorno de trabajo más seguro.✔ 2 Horas de Concienciación sobre Drogas y Alcohol: Aprende cómo el consumo de sustancias afecta la seguridad en el trabajo\, identifica señales de advertencia y descubre estrategias para la prevención e intervención.✔ Recibe certificación OSHA 10 horas al finalizar✔ Clases disponibles en español \n\n\n\n👷‍♂️ Este entrenamiento es ideal para trabajadores de la construcción\, supervisores y cualquier persona interesada en mejorar la seguridad en el trabajo. \n\n\n\n📅 Fecha: Sábado\, 15 de febrero de 2025⏰ Horario: 10 AM – 9 PM📍 Lugar: UCCW\, 360 North Avenue\, New Rochelle\, NY 10801 \n\n\n\n🎯 ¡Cupos limitados! Regístrate hoy mismo para asegurar tu lugar. \n\n\n\n📞 Para inscribirte\, llama al 914-308-1640 \n\n\n\n🚧 Tu seguridad es lo más importante. ¡Capacítate y certifícate GRATIS! 🚧
URL:https://uccenter.org/event/sst-osha-10-feb-15/
LOCATION:360 North Ave\, New Rochelle\, NY 10801\, Estados Unidos\, 360 North Ave\, New Rochelle\, NY\, New York\, United States
CATEGORIES:OSHA 10,SST
ATTACH;FMTTYPE=image/jpeg:https://uccenter.org/wp-content/uploads/2025/02/SST-FEB-2025-CALENDAR-WEB-2240-x-1260-px.jpg
END:VEVENT
END:VCALENDAR