BEGIN:VCALENDAR
VERSION:2.0
PRODID:-//United Community Center of Westchester, Inc - ECPv6.15.20//NONSGML v1.0//EN
CALSCALE:GREGORIAN
METHOD:PUBLISH
X-ORIGINAL-URL:https://uccenter.org
X-WR-CALDESC:Events for United Community Center of Westchester, Inc
REFRESH-INTERVAL;VALUE=DURATION:PT1H
X-Robots-Tag:noindex
X-PUBLISHED-TTL:PT1H
BEGIN:VTIMEZONE
TZID:UTC
BEGIN:STANDARD
TZOFFSETFROM:+0000
TZOFFSETTO:+0000
TZNAME:UTC
DTSTART:20240101T000000
END:STANDARD
END:VTIMEZONE
BEGIN:VEVENT
DTSTART;TZID=UTC:20250315T100000
DTEND;TZID=UTC:20250315T210000
DTSTAMP:20260421T193726
CREATED:20250304T211736Z
LAST-MODIFIED:20250304T213437Z
UID:4655-1742032800-1742072400@uccenter.org
SUMMARY:10 HOUR SITE SAFETY TRAINING (FREE TRAINING IN SPANISH)
DESCRIPTION:Ensure Your Safety! \n\n\n\nThis FREE SST 10-Hour training is essential for construction workers looking to meet NYC safety requirements. Falls are one of the leading causes of injuries on job sites\, and substance use can severely impact workplace safety. This course provides vital knowledge to create a safer work environment while helping workers comply with industry regulations. \n\n\n\nWhat You Will Learn:\n\n\n\n✅ SST 8-Hour Fall Prevention – Understand fall hazards\, safety measures\, and how to prevent accidents.✅ SST 2-Hour Drug and Alcohol Awareness – Learn about the effects of substance use on job performance and how to maintain a safe workspace. \n\n\n\nBenefits of Attending:\n\n\n\n✔ Comply with NYC safety requirements✔ Enhance workplace safety✔ Improve job opportunities✔ Receive an SST certification at no cost \n\n\n\nEvent Details:\n\n\n\n📅 Date: Saturday\, March 15\, 2025⏰ Time: 10 AM – 9 PM📍 Location: UCCW\, 360 North Avenue\, New Rochelle\, NY \n\n\n\n🚨 Requirement: Must have completed OSHA 30-Hour Training📞 Register now: Call 914-308-1640 to secure your spot! \n\n\n\n\n\n\n\nCAPACITACIÓN SST – 10 HORAS (GRATIS Y EN ESPAÑOL)\n\n\n\n¡Garantiza tu seguridad!\n\n\n\nEsta CAPACITACIÓN GRATUITA de SST 10 Horas es fundamental para los trabajadores de la construcción que buscan cumplir con los requisitos de seguridad de NYC. Las caídas son una de las principales causas de accidentes en el trabajo\, y el consumo de sustancias puede afectar la seguridad en el sitio. Este curso te brindará conocimientos clave para un ambiente laboral más seguro y el cumplimiento de las normativas. \n\n\n\n¿Qué Aprenderás?\n\n\n\n✅ SST 8 Horas de Prevención de Caídas – Identifica riesgos de caídas y aplica medidas de seguridad efectivas.✅ SST 2 Horas de Concienciación sobre Drogas y Alcohol – Comprende los efectos del consumo de sustancias y cómo mantener un espacio de trabajo seguro. \n\n\n\nBeneficios de Asistir:\n\n\n\n✔ Cumple con los requisitos de seguridad de NYC✔ Mejora la seguridad en el trabajo✔ Aumenta tus oportunidades laborales✔ Obtén tu certificación SST sin costo \n\n\n\nDetalles del Evento:\n\n\n\n📅 Fecha: Sábado\, 15 de marzo de 2025⏰ Horario: 10 AM – 9 PM📍 Ubicación: UCCW\, 360 North Avenue\, New Rochelle\, NY \n\n\n\n🚨 Requisito: Haber completado el entrenamiento OSHA 30 Horas📞 Regístrate ahora: Llama al 914-308-1640 para asegurar tu lugar.
URL:https://uccenter.org/event/10-hour-site-safety-training-march-15/
LOCATION:360 North Ave\, New Rochelle\, NY 10801\, Estados Unidos\, 360 North Ave\, New Rochelle\, NY\, New York\, United States
CATEGORIES:OSHA 10,SST
ATTACH;FMTTYPE=image/jpeg:https://uccenter.org/wp-content/uploads/2025/03/sst-uccw-march-spa-eng-1080-x-1350-px-2240-x-1260-px.jpg
END:VEVENT
END:VCALENDAR