BEGIN:VCALENDAR
VERSION:2.0
PRODID:-//United Community Center of Westchester, Inc - ECPv6.15.20//NONSGML v1.0//EN
CALSCALE:GREGORIAN
METHOD:PUBLISH
X-ORIGINAL-URL:https://uccenter.org
X-WR-CALDESC:Events for United Community Center of Westchester, Inc
REFRESH-INTERVAL;VALUE=DURATION:PT1H
X-Robots-Tag:noindex
X-PUBLISHED-TTL:PT1H
BEGIN:VTIMEZONE
TZID:UTC
BEGIN:STANDARD
TZOFFSETFROM:+0000
TZOFFSETTO:+0000
TZNAME:UTC
DTSTART:20230101T000000
END:STANDARD
END:VTIMEZONE
BEGIN:VEVENT
DTSTART;TZID=UTC:20240730T180000
DTEND;TZID=UTC:20240730T193000
DTSTAMP:20260422T171329
CREATED:20240628T010656Z
LAST-MODIFIED:20240723T232919Z
UID:3129-1722362400-1722367800@uccenter.org
SUMMARY:Workshop to Quit Smoking for Adults
DESCRIPTION:🚭 Workshop to Quit Smoking for Adults 🌿 \n\n\n\nDon’t miss this opportunity to improve your health and get the support you need. \n\n\n\nJoin us for an informative and supportive workshop designed to help you quit smoking for good. \n\n\n\n🎉 Workshop Highlights: \n\n\n\n\nLearn effective strategies to quit smoking.\n\n\n\nReceive personalized support and guidance.\n\n\n\nPlus\, you’ll receive a financial incentive to purchase medications that will aid you in the process!\n\n\n\n\n📞 Contact Information: Info: 914-813-2896 \n\n\n\n📅 Dates: \n\n\n\n\nJuly 30\n\n\n\nAugust: 6\, 13\, 20\, 21\, 27\n\n\n\nSeptember: 3\, 10\n\n\n\n\nAll workshops are from 6:00 pm to 7:30 pm at 360 North Avenue\, New Rochelle\, NY 10801. \n\n\n\nThis workshop is made possible thanks to the sponsorship of Westchester County Government with the Know Better\, Live Better program and the Freedom from Smoking program by the American Lung Association. \n\n\n\nTake the first step towards a healthier you! Join us at the workshop and start your journey to a smoke-free life. \n\n\n\n\n\n\n\n🚭 Taller para Dejar de Fumar para Adultos 🌿 \n\n\n\nNo pierdas esta oportunidad de mejorar tu salud y recibir la ayuda que necesitas. \n\n\n\nÚnete a nosotros en un taller informativo y de apoyo diseñado para ayudarte a dejar de fumar definitivamente. \n\n\n\n🎉 Aspectos Destacados del Taller: \n\n\n\n\nAprende estrategias efectivas para dejar de fumar.\n\n\n\nRecibe apoyo y orientación personalizados.\n\n\n\n¡Además\, recibirás un incentivo financiero para comprar medicamentos que te ayudarán en el proceso!\n\n\n\n\n📞 Información de Contacto: Info: 914-813-2896 \n\n\n\n📅 Fechas: \n\n\n\n\nJulio 30\n\n\n\nAgosto: 6\, 13\, 20\, 21\, 27\n\n\n\nSeptiembre: 3\, 10\n\n\n\n\nTodos los talleres son de 6:00 pm a 7:30 pm en 360 North Avenue\, New Rochelle\, NY 10801. \n\n\n\nEste taller es posible gracias al patrocinio del Gobierno del Condado de Westchester con el programa Know Better\, Live Better y el programa Freedom from Smoking de la American Lung Association. \n\n\n\nDa el primer paso hacia una vida más saludable. ¡Únete al taller y comienza tu camino hacia una vida sin humo!
URL:https://uccenter.org/event/workshop-to-quit-smoking/
LOCATION:360 North Ave\, New Rochelle\, NY 10801\, Estados Unidos\, 360 North Ave\, New Rochelle\, NY\, New York\, United States
ATTACH;FMTTYPE=image/png:https://uccenter.org/wp-content/uploads/2024/07/Grey-Workshop-to-Quit-Smoking-for-Adults-web-2240-x-1260-px.png
END:VEVENT
END:VCALENDAR