BEGIN:VCALENDAR
VERSION:2.0
PRODID:-//United Community Center of Westchester, Inc - ECPv6.15.20//NONSGML v1.0//EN
CALSCALE:GREGORIAN
METHOD:PUBLISH
X-WR-CALNAME:United Community Center of Westchester, Inc
X-ORIGINAL-URL:https://uccenter.org
X-WR-CALDESC:Events for United Community Center of Westchester, Inc
REFRESH-INTERVAL;VALUE=DURATION:PT1H
X-Robots-Tag:noindex
X-PUBLISHED-TTL:PT1H
BEGIN:VTIMEZONE
TZID:America/New_York
BEGIN:DAYLIGHT
TZOFFSETFROM:-0500
TZOFFSETTO:-0400
TZNAME:EDT
DTSTART:20230312T070000
END:DAYLIGHT
BEGIN:STANDARD
TZOFFSETFROM:-0400
TZOFFSETTO:-0500
TZNAME:EST
DTSTART:20231105T060000
END:STANDARD
BEGIN:DAYLIGHT
TZOFFSETFROM:-0500
TZOFFSETTO:-0400
TZNAME:EDT
DTSTART:20240310T070000
END:DAYLIGHT
BEGIN:STANDARD
TZOFFSETFROM:-0400
TZOFFSETTO:-0500
TZNAME:EST
DTSTART:20241103T060000
END:STANDARD
BEGIN:DAYLIGHT
TZOFFSETFROM:-0500
TZOFFSETTO:-0400
TZNAME:EDT
DTSTART:20250309T070000
END:DAYLIGHT
BEGIN:STANDARD
TZOFFSETFROM:-0400
TZOFFSETTO:-0500
TZNAME:EST
DTSTART:20251102T060000
END:STANDARD
END:VTIMEZONE
BEGIN:VEVENT
DTSTART;TZID=America/New_York:20240207T090000
DTEND;TZID=America/New_York:20240207T170000
DTSTAMP:20260422T230307
CREATED:20240206T014727Z
LAST-MODIFIED:20240215T231954Z
UID:2144-1707296400-1707325200@uccenter.org
SUMMARY:Distribución de Comida | Food Distribution
DESCRIPTION:Ven y forma parte de esta experiencia en la que ofreceremos una amplia variedad de productos\, desde frescas verduras hasta jugosas frutas\, todo pensado para enriquecer tu dieta diaria. Nuestro objetivo es asegurarnos de que cada hogar tenga acceso a alimentos de calidad.\n📍 Ubicación: 360 North Avenue\, New Rochelle\, NY 10801\n\n\n\n\n\n\n\n\n\n\n\n\n\n\n\n\nCome and be part of this experience where we will provide a diverse array of products\, from fresh vegetables to juicy fruits\, all designed to enhance your daily diet. Our aim is to ensure that every household has access to quality food.\n📍 Location: 360 North Avenue\, New Rochelle\, NY 10801
URL:https://uccenter.org/event/distribucion-de-comida-food-distribution/
LOCATION:New York
ATTACH;FMTTYPE=image/jpeg:https://uccenter.org/wp-content/uploads/2024/02/calendar-food-pantry-vegetales.jpg
END:VEVENT
BEGIN:VEVENT
DTSTART;TZID=America/New_York:20240221T130000
DTEND;TZID=America/New_York:20240221T170000
DTSTAMP:20260422T230307
CREATED:20240206T212743Z
LAST-MODIFIED:20240210T004556Z
UID:2198-1708520400-1708534800@uccenter.org
SUMMARY:Distribución de Comida | Food Distribution | Major Yadira Ramos
DESCRIPTION:Ven este miércoles 21 de febrero de 1 a 5 pm y forma parte de esta experiencia en la que ofreceremos una amplia variedad de productos\, desde frescas verduras hasta jugosas frutas\, todo pensado para enriquecer tu dieta diaria. Nuestro objetivo es asegurarnos de que cada hogar tenga acceso a alimentos de calidad. Además\, contaremos con la participación especial de Yadira Ramos-Herbert\, la 24ª alcaldesa de la Ciudad de New Rochelle. \n📍 Ubicación: 360 North Avenue\, New Rochelle\, NY 10801 \nJoin us this Wednesday\, the 21st\, from 1 to 5 pm and be part of this enriching experience where we will offer a wide variety of products\, from fresh vegetables to juicy fruits\, all carefully selected to enhance your daily diet. Our mission is to ensure that every household has access to high-quality food. We are thrilled to announce the special participation of Mayor Yadira Ramos-Herbert\, the 24th Mayor of the City of New Rochelle. \n📍 Location: 360 North Avenue\, New Rochelle\, NY 10801\n\n				\n				\n\n				  \n\n\n\n\nRegister now!
URL:https://uccenter.org/event/distribucion-de-comida-food-distribution-major-yadira-ramos/
LOCATION:360 North Ave\, New Rochelle\, NY 10801\, Estados Unidos\, 360 North Ave\, New Rochelle\, NY\, New York\, United States
ATTACH;FMTTYPE=image/jpeg:https://uccenter.org/wp-content/uploads/2024/02/calendar-Yadira-Ramos.jpg
END:VEVENT
END:VCALENDAR