BEGIN:VCALENDAR
VERSION:2.0
PRODID:-//United Community Center of Westchester, Inc - ECPv6.15.20//NONSGML v1.0//EN
CALSCALE:GREGORIAN
METHOD:PUBLISH
X-ORIGINAL-URL:https://uccenter.org
X-WR-CALDESC:Events for United Community Center of Westchester, Inc
REFRESH-INTERVAL;VALUE=DURATION:PT1H
X-Robots-Tag:noindex
X-PUBLISHED-TTL:PT1H
BEGIN:VTIMEZONE
TZID:America/New_York
BEGIN:DAYLIGHT
TZOFFSETFROM:-0500
TZOFFSETTO:-0400
TZNAME:EDT
DTSTART:20230312T070000
END:DAYLIGHT
BEGIN:STANDARD
TZOFFSETFROM:-0400
TZOFFSETTO:-0500
TZNAME:EST
DTSTART:20231105T060000
END:STANDARD
BEGIN:DAYLIGHT
TZOFFSETFROM:-0500
TZOFFSETTO:-0400
TZNAME:EDT
DTSTART:20240310T070000
END:DAYLIGHT
BEGIN:STANDARD
TZOFFSETFROM:-0400
TZOFFSETTO:-0500
TZNAME:EST
DTSTART:20241103T060000
END:STANDARD
BEGIN:DAYLIGHT
TZOFFSETFROM:-0500
TZOFFSETTO:-0400
TZNAME:EDT
DTSTART:20250309T070000
END:DAYLIGHT
BEGIN:STANDARD
TZOFFSETFROM:-0400
TZOFFSETTO:-0500
TZNAME:EST
DTSTART:20251102T060000
END:STANDARD
END:VTIMEZONE
BEGIN:VEVENT
DTSTART;TZID=America/New_York:20240306T090000
DTEND;TZID=America/New_York:20240306T170000
DTSTAMP:20260422T213724
CREATED:20240208T005302Z
LAST-MODIFIED:20240210T014258Z
UID:2263-1709715600-1709744400@uccenter.org
SUMMARY:Distribución de Comida | Food Distribution
DESCRIPTION:Ven y forma parte de esta experiencia en la que ofreceremos una amplia variedad de productos\, desde frescas verduras hasta jugosas frutas\, todo pensado para enriquecer tu dieta diaria. Nuestro objetivo es asegurarnos de que cada hogar tenga acceso a alimentos de calidad.\n\n\n\n\n\n\n\n\n\n\n\n\n\n\n\nCome and be part of this experience where we will provide a diverse array of products\, from fresh vegetables to juicy fruits\, all designed to enhance your daily diet. Our aim is to ensure that every household has access to quality food. \n\n				\n				\n\n				  \n\n\n\n\n\n\n\n\n\n\n\n\nRegister Now!
URL:https://uccenter.org/event/food-distribution/
LOCATION:360 North Ave\, New Rochelle\, NY 10801\, Estados Unidos\, 360 North Ave\, New Rochelle\, NY\, New York\, United States
ATTACH;FMTTYPE=image/jpeg:https://uccenter.org/wp-content/uploads/2024/02/calendar-FOOD.jpg
END:VEVENT
END:VCALENDAR