BEGIN:VCALENDAR
VERSION:2.0
PRODID:-//United Community Center of Westchester, Inc - ECPv6.15.20//NONSGML v1.0//EN
CALSCALE:GREGORIAN
METHOD:PUBLISH
X-ORIGINAL-URL:https://uccenter.org
X-WR-CALDESC:Events for United Community Center of Westchester, Inc
REFRESH-INTERVAL;VALUE=DURATION:PT1H
X-Robots-Tag:noindex
X-PUBLISHED-TTL:PT1H
BEGIN:VTIMEZONE
TZID:UTC
BEGIN:STANDARD
TZOFFSETFROM:+0000
TZOFFSETTO:+0000
TZNAME:UTC
DTSTART:20230101T000000
END:STANDARD
END:VTIMEZONE
BEGIN:VTIMEZONE
TZID:America/New_York
BEGIN:DAYLIGHT
TZOFFSETFROM:-0500
TZOFFSETTO:-0400
TZNAME:EDT
DTSTART:20230312T070000
END:DAYLIGHT
BEGIN:STANDARD
TZOFFSETFROM:-0400
TZOFFSETTO:-0500
TZNAME:EST
DTSTART:20231105T060000
END:STANDARD
BEGIN:DAYLIGHT
TZOFFSETFROM:-0500
TZOFFSETTO:-0400
TZNAME:EDT
DTSTART:20240310T070000
END:DAYLIGHT
BEGIN:STANDARD
TZOFFSETFROM:-0400
TZOFFSETTO:-0500
TZNAME:EST
DTSTART:20241103T060000
END:STANDARD
BEGIN:DAYLIGHT
TZOFFSETFROM:-0500
TZOFFSETTO:-0400
TZNAME:EDT
DTSTART:20250309T070000
END:DAYLIGHT
BEGIN:STANDARD
TZOFFSETFROM:-0400
TZOFFSETTO:-0500
TZNAME:EST
DTSTART:20251102T060000
END:STANDARD
END:VTIMEZONE
BEGIN:VEVENT
DTSTART;TZID=UTC:20240323T053000
DTEND;TZID=UTC:20240323T203000
DTSTAMP:20260423T132203
CREATED:20240322T001757Z
LAST-MODIFIED:20240322T001759Z
UID:2679-1711171800-1711225800@uccenter.org
SUMMARY:Cambio de imagen y empoderamiento para sobrevivientes Hermosas y Fuertes
DESCRIPTION:For English version\, please scroll down. \n\n\n\nÚNETE AL GRUPO DE APOYO BETWEEN FRIENDS PARA SOBREVIVIENTES DE VIOLENCIA DOMÉSTICA MIENTRAS CELEBRAMOS EL MES DE LA MUJER HONRANDO LA FUERZA Y BELLEZA DE LAS SOBREVIVIENTES DE VIOLENCIA DOMÉSTICA. TE INVITAMOS A UN DÍA DE EMPODERAMIENTO Y CUIDADO PERSONAL A TRAVÉS DE TRANSFORMACIONES PARA ESTAS MUJERES INCREÍBLES. \n\n\n\nVEN A COMPARTIR TU APOYO\, HISTORIAS Y A ELEVARNOS MUTUAMENTE EN UN AMBIENTE SEGURO Y ACOGEDOR. CELEBREMOS LA RESILIENCIA\, EL CORAJE Y EL PODER DE LA UNIDAD MIENTRAS ACOMPAÑAMOS A LAS SOBREVIVIENTES EN SU CAMINO HACIA LA SANACIÓN Y EL EMPODERAMIENTO. \n\n\n\nDIFUNDE AMOR\, CONSTRUYE CONFIANZA Y MARCA LA DIFERENCIA EN LA VIDA DE ESTAS PERSONAS ASOMBROSAS. JUNTOS\, PODEMOS CREAR UNA COMUNIDAD DE APOYO Y SOLIDARIDAD QUE EMPODERE A LAS SOBREVIVIENTES PARA PROSPERAR. \n\n\n\nNO TE PIERDAS ESTE EVENTO ESPECIAL LLENO DE AMOR\, BELLEZA Y EMPODERAMIENTO. HAGAMOS DEL MES DE LA MUJER UN MOMENTO PARA HONRAR LA FUERZA Y RESILIENCIA DE TODAS LAS MUJERES. \n\n\n\nPARA OBTENER MÁS INFORMACIÓN Y CONFIRMAR TU ASISTENCIA\, COMUNÍCATE CON JACKIE AGUDELO AL 914-813-2896. \n\n\n\nJOIN BETWEEN FRIENDS DV SUPPORT GROUP AS WE CELEBRATE WOMEN’S MONTH BY HONORING THE STRENGTH AND BEAUTY OF SURVIVORS OF DOMESTIC VIOLENCE. WE INVITE YOU TO A DAY OF EMPOWERMENT AND SELF-CARE THROUGH MAKEOVERS FOR THESE INCREDIBLE WOMEN. \n\n\n\nCOME TOGETHER TO SHOW SUPPORT\, SHARE STORIES\, AND UPLIFT EACH OTHER IN A SAFE AND WELCOMING ENVIRONMENT. LET’S CELEBRATE RESILIENCE\, COURAGE\, AND THE POWER OF UNITY AS WE STAND WITH SURVIVORS ON THEIR JOURNEY TO HEALING AND EMPOWERMENT. \n\n\n\nSPREAD LOVE\, BUILD CONFIDENCE\, AND MAKE A DIFFERENCE IN THE LIVES OF THESE AMAZING INDIVIDUALS. TOGETHER\, WE CAN CREATE A COMMUNITY OF SUPPORT AND SOLIDARITY THAT EMPOWERS SURVIVORS TO THRIVE. \n\n\n\nDON’T MISS THIS SPECIAL EVENT FILLED WITH LOVE\, BEAUTY\, AND EMPOWERMENT. LET’S MAKE WOMEN’S MONTH A TIME TO HONOR THE STRENGTH AND RESILIENCE OF ALL WOMEN. \n\n\n\nFOR MORE INFORMATION AND TO RSVP\, PLEASE CONTACT JACKIE AGUDELO 914-813-2896
URL:https://uccenter.org/event/bf-marzo/
LOCATION:360 North Ave\, New Rochelle\, NY 10801\, Estados Unidos\, 360 North Ave\, New Rochelle\, NY\, New York\, United States
ATTACH;FMTTYPE=image/jpeg:https://uccenter.org/wp-content/uploads/2024/03/2-1.jpg
END:VEVENT
BEGIN:VEVENT
DTSTART;TZID=America/New_York:20240329T170000
DTEND;TZID=America/New_York:20240329T190000
DTSTAMP:20260423T132203
CREATED:20240208T010612Z
LAST-MODIFIED:20240210T041211Z
UID:2266-1711731600-1711738800@uccenter.org
SUMMARY:Entre Amigas | Between Friends Support Group
DESCRIPTION:En nuestras reuniones\, ofrecemos un ambiente de escucha compasiva donde puedes compartir tus experiencias\, expresar tus preocupaciones y recibir orientación de nuestros facilitadores capacitados. Nuestro objetivo es empoderarte con el conocimiento y las herramientas necesarias para romper el ciclo de la violencia y promover relaciones saludables. No importa en qué etapa te encuentres en tu viaje hacia la recuperación y la prevención\, estamos aquí para apoyarte. ¡Únete a nosotros y juntos trabajemos hacia un futuro libre de violencia doméstica! \nPatrocinado por: Westchester County Office for Women. \nAt our meetings\, we provide a compassionate listening environment where you can share your experiences\, voice your concerns\, and receive guidance from our trained facilitators. Our aim is to empower you with the knowledge and tools necessary to break the cycle of violence and promote healthy relationships. \nNo matter what stage you’re at in your journey towards recovery and prevention\, we’re here to support you. Join us as we work together towards a future free from domestic violence! \nSponsored by: Westchester County Office for Women.\n				\n				\n\n				  \n\n\n\n\nRegister Now!
URL:https://uccenter.org/event/entre-amigas-between-friends-support-group-2/
LOCATION:360 North Ave\, New Rochelle\, NY 10801\, Estados Unidos\, 360 North Ave\, New Rochelle\, NY\, New York\, United States
ATTACH;FMTTYPE=image/jpeg:https://uccenter.org/wp-content/uploads/2024/02/BETWEEN-FRIENDS-MAR-2024-1920-x-1080-px.jpg
END:VEVENT
BEGIN:VEVENT
DTSTART;TZID=UTC:20240330T183000
DTEND;TZID=UTC:20240330T213000
DTSTAMP:20260423T132203
CREATED:20240318T215512Z
LAST-MODIFIED:20240318T215515Z
UID:2671-1711823400-1711834200@uccenter.org
SUMMARY:BETWEEN FRIENDS ENTRE AMIGAS | Celebración del mes de la Mujer
DESCRIPTION:¡Acompáñanos para celebrar juntas el poder y la inspiración de la mujer!  Este 30 de marzo\, el grupo de apoyo Entre Amigas tiene preparada una edición especial en honor al Mes de la Mujer\, ¡y no te la puedes perder!  \n\n\n\n Fecha: 30 de marzo \n\n\n\n Hora: 6:30pm – 9:30pm \n\n\n\nNos emociona anunciar que tendremos como invitada especial a la increíble speaker motivacional\, Ximena Francella\, quien compartirá con nosotras su motivación para alcanzar nuestras metas y sueños.  \n\n\n\n¡Será una noche llena de empoderamiento\, risas y conexión con otras mujeres increíbles como tú!  ¡Te esperamos corre la voz! \n\n\n\nJoin us to celebrate the power and inspiration of women!  On March 30th\, the support group Entre Amigas has prepared a special edition in honor of Women’s Month\, and you can’t miss it!  \n\n\n\n Date: March 30th \n\n\n\n Time: 6:30pm – 9:30pm \n\n\n\nWe’re thrilled to announce that we’ll have as a special guest the incredible motivational speaker\, Ximena Francella\, who will share with us her motivation to achieve our goals and dreams.  \n\n\n\nIt’ll be a night full of empowerment\, laughter\, and connection with other amazing women like you!  We look forward to seeing you\, spread the word!!
URL:https://uccenter.org/event/between-friends-entre-amigas/
LOCATION:360 North Ave\, New Rochelle\, NY 10801\, Estados Unidos\, 360 North Ave\, New Rochelle\, NY\, New York\, United States
ATTACH;FMTTYPE=image/jpeg:https://uccenter.org/wp-content/uploads/2024/03/2.jpg
END:VEVENT
END:VCALENDAR