BEGIN:VCALENDAR
VERSION:2.0
PRODID:-//United Community Center of Westchester, Inc - ECPv6.15.20//NONSGML v1.0//EN
CALSCALE:GREGORIAN
METHOD:PUBLISH
X-ORIGINAL-URL:https://uccenter.org
X-WR-CALDESC:Events for United Community Center of Westchester, Inc
REFRESH-INTERVAL;VALUE=DURATION:PT1H
X-Robots-Tag:noindex
X-PUBLISHED-TTL:PT1H
BEGIN:VTIMEZONE
TZID:UTC
BEGIN:STANDARD
TZOFFSETFROM:+0000
TZOFFSETTO:+0000
TZNAME:UTC
DTSTART:20230101T000000
END:STANDARD
END:VTIMEZONE
BEGIN:VEVENT
DTSTART;TZID=UTC:20240426T170000
DTEND;TZID=UTC:20240426T190000
DTSTAMP:20260423T115343
CREATED:20240215T234257Z
LAST-MODIFIED:20240402T022608Z
UID:2584-1714150800-1714158000@uccenter.org
SUMMARY:Between Friends Support Group | Grupo de apoyo Entre Amigas
DESCRIPTION:At our meetings\, we provide a compassionate listening environment where you can share your experiences\, voice your concerns\, and receive guidance from our trained facilitators. Our aim is to empower you with the knowledge and tools necessary to break the cycle of violence and promote healthy relationships. \n\n\n\nNo matter what stage you’re at in your journey towards recovery and prevention\, we’re here to support you. Join us as we work together towards a future free from domestic violence!Sponsored by: Westchester County Office for Women. \n\n\n\nContact us by calling 914-813-2896 or by clicking the button below. \n\n\n\n\n\n\n\nEn nuestras reuniones\, ofrecemos un ambiente de escucha compasiva donde puedes compartir tus experiencias\, expresar tus preocupaciones y recibir orientación de nuestros facilitadores capacitados. Nuestro objetivo es empoderarte con el conocimiento y las herramientas necesarias para romper el ciclo de la violencia y promover relaciones saludables. No importa en qué etapa te encuentres en tu viaje hacia la recuperación y la prevención\, estamos aquí para apoyarte. ¡Únete a nosotros y juntos trabajemos hacia un futuro libre de violencia doméstica! Patrocinado por: Westchester County Office for Women. \n\n\n\nContáctanos llamando al 914-813-2896 o haciendo click en el botón de abajo. \n\n\n\n\n				\n				\n\n				  \n\n\n\n\n\nRegister Today! ¡Regístrate Hoy!
URL:https://uccenter.org/event/entre-amigas/
LOCATION:360 North Ave\, New Rochelle\, NY 10801\, Estados Unidos\, 360 North Ave\, New Rochelle\, NY\, New York\, United States
ATTACH;FMTTYPE=image/jpeg:https://uccenter.org/wp-content/uploads/2024/02/BETWEEN-FRIENDS-FEB-2024-1920-x-1080-px.jpg
END:VEVENT
END:VCALENDAR