BEGIN:VCALENDAR
VERSION:2.0
PRODID:-//United Community Center of Westchester, Inc - ECPv6.15.20//NONSGML v1.0//EN
CALSCALE:GREGORIAN
METHOD:PUBLISH
X-WR-CALNAME:United Community Center of Westchester, Inc
X-ORIGINAL-URL:https://uccenter.org
X-WR-CALDESC:Events for United Community Center of Westchester, Inc
REFRESH-INTERVAL;VALUE=DURATION:PT1H
X-Robots-Tag:noindex
X-PUBLISHED-TTL:PT1H
BEGIN:VTIMEZONE
TZID:UTC
BEGIN:STANDARD
TZOFFSETFROM:+0000
TZOFFSETTO:+0000
TZNAME:UTC
DTSTART:20230101T000000
END:STANDARD
END:VTIMEZONE
BEGIN:VEVENT
DTSTART;TZID=UTC:20240823T173000
DTEND;TZID=UTC:20240823T193000
DTSTAMP:20260423T065524
CREATED:20240719T230950Z
LAST-MODIFIED:20240719T231333Z
UID:3250-1724434200-1724441400@uccenter.org
SUMMARY:Between Friends Support Group
DESCRIPTION:🌟 Between Friends Support Group 🌟 \n\n\n\nJoin us for a supportive session addressing domestic violence\, led by Specialist Paola Cedano. \n\n\n\nThis safe space is sponsored by the Westchester County Office for Women. \n\n\n\n🌸 Discover Healing Together: \n\n\n\n\nExplore coping strategies in a nurturing environment.\n\n\n\nGain insights and tools to navigate challenges.\n\n\n\nConnect with others who understand and support your journey.\n\n\n\n\n🌿 Session Details: \n\n\n\n\nFriday\, August 23rd\, 2024 | 5:30 pm – 7:30 pm📍 360 North Avenue\, New Rochelle\, NY 10801\n\n\n\nLed By: Specialist Paola Cedano\n\n\n\nContact: For more information\, call 914-760-3213\n\n\n\n\nLet’s come together to heal and support each other. You are not alone. \n\n\n\n\n\n\n\n🌟 Grupo de Apoyo Between Friends 🌟 \n\n\n\nÚnete a nosotras para una sesión de apoyo centrada en la violencia doméstica\, dirigida por la especialista Paola Cedano. Este espacio seguro es patrocinado por la Oficina para la Mujer del Condado de Westchester. \n\n\n\n🌸 Descubre Sanación Juntos: \n\n\n\n\nExplora estrategias de afrontamiento en un ambiente acogedor.\n\n\n\nObtén perspectivas y herramientas para enfrentar desafíos.\n\n\n\nConéctate con otros que comprenden y apoyan tu camino.\n\n\n\n\n🌿 Detalles de la Sesión: \n\n\n\n\nViernes\, 23 de Agosto de 2024 | 5:30 pm – 7:30 pm📍 360 North Avenue\, New Rochelle\, NY 10801\n\n\n\nDirigido Por: Especialista Paola Cedano\n\n\n\nContacto: Para más información\, llama al 914-760-3213\n\n\n\n\nÚnete a nosotras para sanar y apoyarnos mutuamente. No estás sola.
URL:https://uccenter.org/event/between-friends-support-group-aug23/
LOCATION:360 North Ave\, New Rochelle\, NY 10801\, Estados Unidos\, 360 North Ave\, New Rochelle\, NY\, New York\, United States
ATTACH;FMTTYPE=image/png:https://uccenter.org/wp-content/uploads/2024/07/WEB-Blue-RED-UCCW-BTF-ago-23-2240-x-1260-px.png
END:VEVENT
END:VCALENDAR