BEGIN:VCALENDAR
VERSION:2.0
PRODID:-//United Community Center of Westchester, Inc - ECPv6.15.20//NONSGML v1.0//EN
CALSCALE:GREGORIAN
METHOD:PUBLISH
X-ORIGINAL-URL:https://uccenter.org
X-WR-CALDESC:Events for United Community Center of Westchester, Inc
REFRESH-INTERVAL;VALUE=DURATION:PT1H
X-Robots-Tag:noindex
X-PUBLISHED-TTL:PT1H
BEGIN:VTIMEZONE
TZID:UTC
BEGIN:STANDARD
TZOFFSETFROM:+0000
TZOFFSETTO:+0000
TZNAME:UTC
DTSTART:20230101T000000
END:STANDARD
END:VTIMEZONE
BEGIN:VEVENT
DTSTART;TZID=UTC:20241018T173000
DTEND;TZID=UTC:20241018T193000
DTSTAMP:20260423T042644
CREATED:20241004T200502Z
LAST-MODIFIED:20241014T191242Z
UID:3833-1729272600-1729279800@uccenter.org
SUMMARY:Emotional Nutrition & Holistic Self-Care Session - Between Friends Support Group
DESCRIPTION:🌟 Emotional Nutrition & Holistic Self-Care Session – Between Friends Support Group \n\n\n\n📝 Description:Join us for an empowering session on Emotional Nutrition and Holistic Self-Care! This event focuses on the vital connection between emotional well-being and physical health\, guiding you through practical self-care practices that promote balance\, inner peace\, and overall wellness. You’ll discover how nurturing your emotions can positively impact your physical health\, relationships\, and daily life. \n\n\n\nIn this safe and supportive environment\, we will explore ways to heal\, recharge\, and regain control of your emotional and physical well-being. Special attention will be given to victims of domestic violence\, offering a compassionate space for healing and support. By participating\, you’ll gain tools to reduce stress\, boost your mental health\, and foster resilience in the face of challenges. \n\n\n\n📅 Event Details: \n\n\n\n\nDate: Friday\, October 18\, 2024\n\n\n\nTime: 5:30 PM – 7:30 PM\n\n\n\nLocation: 360 North Avenue\, New Rochelle\, NY 10801\n\n\n\n\n🤝 Sponsor:Westchester County Office for Women \n\n\n\n📞 Contact Information:For more details\, please call 914-760-3213. \n\n\n\n\n\n\n\n\n\n\n\n🌟  Nutrición Emocional y Autocuidado Integral – Grupo de Apoyo Between Friends \n\n\n\n📝 Descripción:¡Acompáñanos en una sesión empoderadora sobre Nutrición Emocional y Autocuidado Integral! Este evento se enfoca en la profunda conexión entre el bienestar emocional y la salud física\, guiándote a través de prácticas de autocuidado que promueven el equilibrio\, la paz interior y el bienestar general. Descubrirás cómo el cuidado de tus emociones puede tener un impacto positivo en tu salud física\, tus relaciones y tu vida cotidiana. \n\n\n\nEn este espacio seguro y de apoyo\, exploraremos maneras de sanar\, recargar energías y retomar el control de tu bienestar emocional y físico. Prestaremos especial atención a las víctimas de violencia doméstica\, ofreciendo un entorno compasivo para la sanación y el apoyo. Al participar\, obtendrás herramientas para reducir el estrés\, mejorar tu salud mental y fortalecer tu resiliencia frente a los desafíos. \n\n\n\n📅 Datos del Evento: \n\n\n\n\nFecha: Viernes\, 18 de Octubre de 2024\n\n\n\nHora: 5:30 PM – 7:30 PM\n\n\n\nUbicación: 360 North Avenue\, New Rochelle\, NY 10801\n\n\n\n\n🤝 Patrocinador:Westchester County Office for Women \n\n\n\n📞 Información de Contacto:Para más detalles\, por favor llama al 914-760-3213.
URL:https://uccenter.org/event/between-friends-support-group/
LOCATION:360 North Ave\, New Rochelle\, NY 10801\, Estados Unidos\, 360 North Ave\, New Rochelle\, NY\, New York\, United States
ATTACH;FMTTYPE=image/png:https://uccenter.org/wp-content/uploads/2024/10/Between-Friends-Support-Group-October-18-2240-x-1260-px.png
END:VEVENT
END:VCALENDAR