BEGIN:VCALENDAR
VERSION:2.0
PRODID:-//United Community Center of Westchester, Inc - ECPv6.15.20//NONSGML v1.0//EN
CALSCALE:GREGORIAN
METHOD:PUBLISH
X-ORIGINAL-URL:https://uccenter.org
X-WR-CALDESC:Events for United Community Center of Westchester, Inc
REFRESH-INTERVAL;VALUE=DURATION:PT1H
X-Robots-Tag:noindex
X-PUBLISHED-TTL:PT1H
BEGIN:VTIMEZONE
TZID:UTC
BEGIN:STANDARD
TZOFFSETFROM:+0000
TZOFFSETTO:+0000
TZNAME:UTC
DTSTART:20240101T000000
END:STANDARD
END:VTIMEZONE
BEGIN:VEVENT
DTSTART;TZID=UTC:20250301T160000
DTEND;TZID=UTC:20250301T180000
DTSTAMP:20260422T213840
CREATED:20250228T203003Z
LAST-MODIFIED:20250228T203152Z
UID:4649-1740844800-1740852000@uccenter.org
SUMMARY:Between Friends Support Group: Let’s Breathe Together
DESCRIPTION:Healing begins with a single breath. Between Friends is a support group designed for survivors and victims of domestic violence\, providing a safe and compassionate space to share\, heal\, and regain strength. \n\n\n\nOur next session\, Let’s Breathe Together\, will focus on the power of mindful breathing to reduce anxiety\, relieve stress\, and restore emotional balance. Through guided breathing exercises\, we will create a moment of peace\, helping you reconnect with yourself and find a sense of calm in a supportive community. \n\n\n\nYou are not alone. Whether you’re looking for support\, encouragement\, or a space to simply breathe\, we welcome you with open hearts. \n\n\n\nEvent Details\n\n\n\n📅 Date: Saturday\, March 1st📍 Location: 360 North Avenue\, New Rochelle\, NY 10801⏰ Time: 4:00 PM – 6:00 PM📞 For more information\, call: 914-760-3213 \n\n\n\nThis program is made possible with the support of the Westchester County Office for Women. \n\n\n\nTake a deep breath and join us—you deserve this moment of peace. 💜 \n\n\n\n\n\n\n\nGrupo de Apoyo Entre Amigas: Vamos a respirar Juntas\n\n\n\nLa sanación comienza con un solo respiro. Between Friends es un grupo de apoyo creado para sobrevivientes y víctimas de violencia doméstica\, ofreciendo un espacio seguro y compasivo para compartir\, sanar y recuperar fuerzas. \n\n\n\nNuestra próxima sesión\, Respiremos Juntas\, se enfocará en el poder de la respiración consciente para reducir la ansiedad\, aliviar el estrés y restaurar el equilibrio emocional. A través de ejercicios guiados\, crearemos un momento de calma que te permitirá reconectar contigo misma y encontrar paz en una comunidad solidaria. \n\n\n\nNo estás sola. Si buscas apoyo\, aliento o simplemente un espacio para respirar\, aquí te esperamos con el corazón abierto. \n\n\n\nDetalles del Evento\n\n\n\n📅 Fecha: Sábado 1 de marzo📍 Ubicación: 360 North Avenue\, New Rochelle\, NY 10801⏰ Horario: 4:00 PM – 6:00 PM📞 Para más información\, llama al: 914-760-3213 \n\n\n\nEste programa es posible gracias al apoyo de la Oficina para la Mujer del Condado de Westchester. \n\n\n\nTómate un respiro y únete a nosotras. Te mereces este momento de paz. 💜
URL:https://uccenter.org/event/between-friends-support-group-lets-breathe-together/
LOCATION:360 North Ave\, New Rochelle\, NY 10801\, Estados Unidos\, 360 North Ave\, New Rochelle\, NY\, New York\, United States
CATEGORIES:Westchester county office for women
ATTACH;FMTTYPE=image/jpeg:https://uccenter.org/wp-content/uploads/2025/02/Between-Friends-March-1st-2025-calendar-web-2240-x-1260-px.jpg
END:VEVENT
BEGIN:VEVENT
DTSTART;TZID=UTC:20250322T180000
DTEND;TZID=UTC:20250322T210000
DTSTAMP:20260422T213840
CREATED:20250306T212131Z
LAST-MODIFIED:20250306T212132Z
UID:4662-1742666400-1742677200@uccenter.org
SUMMARY:Between Friends Support Group – Special Edition: Celebrating International Women’s Day
DESCRIPTION:✨ Empower. Connect. Celebrate. ✨ \n\n\n\nThis month\, we gather for a very special edition of our Between Friends Support Group\, honoring the strength\, resilience\, and beauty of being a woman. This is more than just a support session—it’s a celebration of empowerment\, community\, and self-love. \n\n\n\n💜 A Special Surprise Awaits You! 💜As part of this meaningful evening\, we have prepared a very special surprise for all the brave women who join us. Come and be part of an uplifting experience where you will find support\, inspiration\, and connection in a safe and welcoming space. \n\n\n\nWhy Attend?\n\n\n\n✔ A safe and supportive environment to share and heal✔ A moment to celebrate yourself and other incredible women✔ Meaningful conversations and empowerment✔ A special surprise prepared just for you! \n\n\n\nEvent Details:\n\n\n\n📅 Date: Saturday\, March 22\, 2025📍 Location: 360 North Avenue\, New Rochelle\, NY 10801⏰ Time: 6:00 PM – 9:00 PM📞 For more information: Call 914-760-3213 \n\n\n\n🙏 Special thanks to the Westchester County Office for Women for their generous support in making this event possible. \n\n\n\nJoin us for an unforgettable evening of strength\, sisterhood\, and celebration. We can’t wait to see you there! 💜 \n\n\n\n\n\n\n\nEntre Amigas – Edición Especial: Celebrando el Día Internacional de la Mujer\n\n\n\n✨ Empodérate. Conéctate. Celebra. ✨ \n\n\n\nEste mes\, nos reunimos para una edición muy especial de nuestro grupo de apoyo Between Friends\, donde honraremos la fuerza\, resiliencia y belleza de ser mujer. Más que un encuentro\, será una celebración de empoderamiento\, comunidad y amor propio. \n\n\n\n💜 ¡Una Sorpresa Muy Especial Te Espera! 💜Hemos preparado una sorpresa especial para todas las mujeres valientes que nos acompañen. Será una experiencia enriquecedora en la que encontrarás apoyo\, inspiración y conexión en un espacio seguro y acogedor. \n\n\n\n¿Por qué asistir?\n\n\n\n✔ Un espacio seguro para compartir y sanar✔ Un momento para celebrar tu fortaleza y la de otras mujeres✔ Conversaciones significativas y experiencias enriquecedoras✔ Una sorpresa especial preparada para ti \n\n\n\nDetalles del evento:\n\n\n\n📅 Fecha: Sábado\, 22 de marzo de 2025📍 Lugar: 360 North Avenue\, New Rochelle\, NY 10801⏰ Hora: 6:00 PM – 9:00 PM📞 Más información: 914-760-3213 \n\n\n\n🙏 Agradecemos profundamente a Westchester County Office for Women por su valioso apoyo para hacer posible este evento. \n\n\n\nÚnete a nosotras en una noche inolvidable de fortaleza\, hermandad y celebración. ¡Te esperamos con los brazos abiertos! 💜
URL:https://uccenter.org/event/between-friends-support-group-special-edition-celebrating-international-womens-day/
LOCATION:360 North Ave\, New Rochelle\, NY 10801\, Estados Unidos\, 360 North Ave\, New Rochelle\, NY\, New York\, United States
CATEGORIES:Westchester county office for women
ATTACH;FMTTYPE=image/jpeg:https://uccenter.org/wp-content/uploads/2025/03/Between-Friends-March-22-25-2025-flyer-2240-x-1260-px.jpg
END:VEVENT
END:VCALENDAR